BEGIN:VCALENDAR
VERSION:2.0
PRODID:-//Verein JazzInOlten - ECPv6.15.14//NONSGML v1.0//EN
CALSCALE:GREGORIAN
METHOD:PUBLISH
X-ORIGINAL-URL:https://jazzinolten.ch
X-WR-CALDESC:Veranstaltungen im Verein JazzInOlten
REFRESH-INTERVAL;VALUE=DURATION:PT1H
X-Robots-Tag:noindex
X-PUBLISHED-TTL:PT1H
BEGIN:VTIMEZONE
TZID:Europe/Paris
BEGIN:DAYLIGHT
TZOFFSETFROM:+0100
TZOFFSETTO:+0200
TZNAME:CEST
DTSTART:20190331T010000
END:DAYLIGHT
BEGIN:STANDARD
TZOFFSETFROM:+0200
TZOFFSETTO:+0100
TZNAME:CET
DTSTART:20191027T010000
END:STANDARD
BEGIN:DAYLIGHT
TZOFFSETFROM:+0100
TZOFFSETTO:+0200
TZNAME:CEST
DTSTART:20200329T010000
END:DAYLIGHT
BEGIN:STANDARD
TZOFFSETFROM:+0200
TZOFFSETTO:+0100
TZNAME:CET
DTSTART:20201025T010000
END:STANDARD
BEGIN:DAYLIGHT
TZOFFSETFROM:+0100
TZOFFSETTO:+0200
TZNAME:CEST
DTSTART:20210328T010000
END:DAYLIGHT
BEGIN:STANDARD
TZOFFSETFROM:+0200
TZOFFSETTO:+0100
TZNAME:CET
DTSTART:20211031T010000
END:STANDARD
BEGIN:DAYLIGHT
TZOFFSETFROM:+0100
TZOFFSETTO:+0200
TZNAME:CEST
DTSTART:20220327T010000
END:DAYLIGHT
BEGIN:STANDARD
TZOFFSETFROM:+0200
TZOFFSETTO:+0100
TZNAME:CET
DTSTART:20221030T010000
END:STANDARD
BEGIN:DAYLIGHT
TZOFFSETFROM:+0100
TZOFFSETTO:+0200
TZNAME:CEST
DTSTART:20230326T010000
END:DAYLIGHT
BEGIN:STANDARD
TZOFFSETFROM:+0200
TZOFFSETTO:+0100
TZNAME:CET
DTSTART:20231029T010000
END:STANDARD
BEGIN:DAYLIGHT
TZOFFSETFROM:+0100
TZOFFSETTO:+0200
TZNAME:CEST
DTSTART:20240331T010000
END:DAYLIGHT
BEGIN:STANDARD
TZOFFSETFROM:+0200
TZOFFSETTO:+0100
TZNAME:CET
DTSTART:20241027T010000
END:STANDARD
END:VTIMEZONE
BEGIN:VEVENT
DTSTART;TZID=Europe/Paris:20230113T210000
DTEND;TZID=Europe/Paris:20230113T230000
DTSTAMP:20260420T222248
CREATED:20221227T083224Z
LAST-MODIFIED:20240317T154808Z
UID:675-1673643600-1673650800@jazzinolten.ch
SUMMARY:Lea Gasser 5tet
DESCRIPTION:Nuit Dansante\, Pepito\, Monday Blues – In den Kompositionen des Lea Gasser 5tet finden unscheinbare Alltagsmomente ihren Platz\, Personen entstehen und aus dem Leben gegriffene Emotionen werden in Klangschwingungen transformiert. Um ihre musikalische Sprache zu formulieren und in einem eigenen Projekt auf die Bühne zu bringen\, gründete die Akkordeonistin 2020 ihr Quintett. Als Bandleaderin setzt sie eigene Ideen um\, die ihren vielseitigen musikalischen Lebenslauf erkennen lassen. So verschmelzen in den Jazz-Kompositionen Einflüsse der klassischen Musik sowie volksmusikalische Elemente zu einem rhythmischen Geflecht mit melodischer Vielschichtigkeit. Melancholische Melodien treffen auf freche Basslinien\, mal tanzt die Musik\, dann entschleunigt sie verträumt und lässt Raum für die Entfaltung von solistischen Erzählungen. Die Gruppe ist mit ihrem neuen Album «L’Heure Bleue» unterwegs. \nLea Gasser\, acc\, comp; Mirko Maio\, p; Samuel Urscheler\, as\, ss; Romain Ballarini\, dr; Emilio Giovanoli\, db  \nWeitere Informationen: www.leagasser.ch \nTickets: tickets@jazzinolten.ch oder www.eventfrog.ch \n 
URL:https://jazzinolten.ch/event/lea-gasser-5tet/
LOCATION:Kino Lichtspiele\, Klosterplatz 20\, Olten\, 4600
ATTACH;FMTTYPE=image/jpeg:https://jazzinolten.ch/wp-content/uploads/2022/12/LeaGasserQuintet_Olmi_11_web-scaled.jpg
END:VEVENT
BEGIN:VEVENT
DTSTART;TZID=Europe/Paris:20221126T210000
DTEND;TZID=Europe/Paris:20221126T230000
DTSTAMP:20260420T222248
CREATED:20220708T063727Z
LAST-MODIFIED:20240317T154814Z
UID:667-1669496400-1669503600@jazzinolten.ch
SUMMARY:Quartett Spiess/Braff/Oester/Dühsler
DESCRIPTION:Das Quartett „Spiess/Braff/Oester/Dühsler“ wurde von Simon Spiess ganz neu ins Leben gerufen. Die Bandmitglieder kennen sich bereits sehr gut aus anderen Bandkonstellationen und kommen diesen Herbst zusammen\, um einige Konzerte zu spielen und ein erstes Album aufzunehmen. Der Bandsound widerspiegelt den aktuellen Jazz und ist getragen von Spielfreude und vitaler Improvisationslust. Die Band spielt Eigenkompositionen und verführt die Zuhörerschaft in eine steile Berg- und Talfahrt voller Emotionen und Abenteuer. \n Band: Simon Spiess\, sax; Malcolm Braff\, piano; Bänz Oester\, double bass; Samuel Dühsler\, drums \nReservationen: tickets@jazzinolten.ch
URL:https://jazzinolten.ch/event/quartett-spiess-braff-oester-duehsler/
LOCATION:Kino Lichtspiele\, Klosterplatz 20\, Olten\, 4600
ATTACH;FMTTYPE=image/jpeg:https://jazzinolten.ch/wp-content/uploads/2022/07/Simon-Spiess-scaled.jpg
END:VEVENT
BEGIN:VEVENT
DTSTART;TZID=Europe/Paris:20221104T210000
DTEND;TZID=Europe/Paris:20221104T230000
DTSTAMP:20260420T222248
CREATED:20220708T063459Z
LAST-MODIFIED:20240317T154821Z
UID:664-1667595600-1667602800@jazzinolten.ch
SUMMARY:Müller – Kramis – Baschnagel
DESCRIPTION:Das Trio\, bestehend aus Pianist Gregor Müller\, Kontrabassist Herbert Kramis und Schlagzeuger Pius Baschnagel\, feiert sein 20-jähriges Jubiläum und eine neue CD. Die drei teilen die gleiche Auffassung des Genres Jazz-Klaviertrio mit einer gepflegten Klangkultur auf allen Instrumenten und mit einem sehr melodiösen Spiel einerseits. Andererseits entsteht durch die gegenseitige Interaktion eine mitreissende Energie und es werden Grenzen gesprengt. Das Verweben von Melodielinien der Instrumente\, das Aufgreifen von Motiven und Themen\, das spontane Verändern der Metren und das Schichten von Rhythmen\, all das sind Charakterzüge des Trios. \nBand: Gregor Müller\, piano; Herbert Kramis\, doublebass; Pius Baschnagel\, drums \nReservationen: tickets@jazzinolten.ch
URL:https://jazzinolten.ch/event/mueller-kramis-baschnagel/
LOCATION:Kino Lichtspiele\, Klosterplatz 20\, Olten\, 4600
ATTACH;FMTTYPE=image/jpeg:https://jazzinolten.ch/wp-content/uploads/2022/07/MuellerKramisBaschnagel-scaled.jpeg
END:VEVENT
BEGIN:VEVENT
DTSTART;TZID=Europe/Paris:20221008T210000
DTEND;TZID=Europe/Paris:20221008T230000
DTSTAMP:20260420T222248
CREATED:20220708T063238Z
LAST-MODIFIED:20240317T154827Z
UID:662-1665262800-1665270000@jazzinolten.ch
SUMMARY:Nicole Johänntgen Quintett – Robin
DESCRIPTION:Der Groove geht in die Beine und ins Gemüt. Man möchte gleich tanzen! Der Sound\, geprägt von kubanischen Rhythmen und dem Flair dieser Musik\, fliesst durch den Konzertsaal und bringt alles in Schwingung. Zarte und emotionale Melodien bis hin zu schmetternden Perkussionsriffs vermengt mit einem wilden Saxophon. Groove and move! \nBand: Nicole Johänntgen\, sax; Manon Mullener\, piano; Sonja Bossart\, bass; David Stauffacher\, perc; Roberto Hacaturyan\, perc \nReservationen: tickets@jazzinolten.ch
URL:https://jazzinolten.ch/event/nicole-johaenntgen-quintett-robin/
LOCATION:Kino Lichtspiele\, Klosterplatz 20\, Olten\, 4600
ATTACH;FMTTYPE=image/jpeg:https://jazzinolten.ch/wp-content/uploads/2022/07/nicole-johaenntgen-9535-1-scaled.jpg
END:VEVENT
BEGIN:VEVENT
DTSTART;TZID=Europe/Paris:20220918T190000
DTEND;TZID=Europe/Paris:20220918T220000
DTSTAMP:20260420T222248
CREATED:20220708T062603Z
LAST-MODIFIED:20240317T154834Z
UID:653-1663527600-1663538400@jazzinolten.ch
SUMMARY:Peter Schärli double vision – Hommage an Umberto Arlati
DESCRIPTION:Nicht etwa die Orgel\, wie immer wieder behauptet wird\, sondern die Trompete ist die Königin der Instrumente. Welche Vielfalt an Klängen kann sie produzieren! – strahlend helle und schattig gedämpfte\, sie kann flüstern\, murmeln\, keck behaupten\, eloquent erzählen\, lachen und weinen. Das Konzert ist eine Hommage an Umberto „Umbi“ Arlati\, der begnadete Trompeter aus Olten und Lehrer von Peter Schärli\, der auf der zu taufenden CD noch mitgespielt hat. Nach dem Konzert wird ein Apéro serviert. \nBand: Lars Lindvall\, Peter Schärli\, trumpets; Vince Benedetti\, piano; Hämi Hämmerli\, bass\, Elmar Frey\, drums \nReservationen: tickets@jazzinolten.ch
URL:https://jazzinolten.ch/event/peter-schaerli-double-vision-hommage-an-umberto-arlati/
LOCATION:Kino Lichtspiele\, Klosterplatz 20\, Olten\, 4600
ATTACH;FMTTYPE=image/jpeg:https://jazzinolten.ch/wp-content/uploads/2022/07/Peter-Schaerli-double-vision--scaled.jpg
END:VEVENT
BEGIN:VEVENT
DTSTART;TZID=Europe/Paris:20220313T200000
DTEND;TZID=Europe/Paris:20220313T220000
DTSTAMP:20260420T222248
CREATED:20211220T143718Z
LAST-MODIFIED:20240317T154841Z
UID:638-1647201600-1647208800@jazzinolten.ch
SUMMARY:Bassic Vibes
DESCRIPTION:«Jazz ist die Freiheit\, viele Formen zu haben». Dieses Zitat von Duke Ellington ist sprichwörtlich Programm von BASSIC VIBES. Die Kompositionen von Erich Fischer schöpfen aus der stilistisch vielfältigen und abwechslungsreichen Welt des Jazz. \nDie gezupften oder mit dem Bogen gestrichenen Saiten des Kontrabasses von Thomas Lähns und die geschlagenen oder gestrichenen Metallplatten des Vibraphons von Erich Fischer ergeben reizvolle Klangfarben. Die Trommeln und Becken unseres kubanischen Meister-Percussionisten bereichern die Klangwelt von BASSIC VIBES entscheidend. Yuvisney Aguilar begleitet sehr gefühlvoll\, spielt aber auch begeisternde Soli. \nBand: Erich «Joey Oz» Fischer\, Vibraphon\, Gesang; Thomas Lähns\, Kontrabass; Yuvisney Aguilar\, Percussion \n www.erichfischer-musik.ch
URL:https://jazzinolten.ch/event/bassic-vibes/
LOCATION:Kino Lichtspiele\, Klosterplatz 20\, Olten\, 4600
ATTACH;FMTTYPE=image/jpeg:https://jazzinolten.ch/wp-content/uploads/2021/12/BassicVibesYuvi_Photography.jpg
END:VEVENT
BEGIN:VEVENT
DTSTART;TZID=Europe/Paris:20220212T210000
DTEND;TZID=Europe/Paris:20220212T230000
DTSTAMP:20260420T222248
CREATED:20211220T143253Z
LAST-MODIFIED:20240317T154849Z
UID:633-1644699600-1644706800@jazzinolten.ch
SUMMARY:Arthur Hnatek Trio
DESCRIPTION:Der Kontrabass akzentuiert die kantigen Riffs und Breaks\, während das Saxofon über improvisierte Teile unerschütterliche Soli raushaut. Die Kompositionen des Genfer Schlagzeugers Arthur Hnatek zeigen\, dass es auch Jazz irgendwo zwischen Metal\, Ambient-Elektro und Breakbeat gibt. Das Trio mit den äusserst talentierten Fabien Iannone und Francesco Geminiani hat den ZKB Jazzpreis 2019 gewonnen und 2021 sein Debut-Album «Static» veröffentlicht. Hnatek\, den man als Sideman von Leuten wie Tigran Hamasyan oder Erik Truffaz kennt\, beweist hier einmal mehr\, dass er auch ein begnadeter Bandleader ist. \nDas Konzert wird im Rahmen von Suisse Diagonales Jazz bei Jazz in Olten durchgeführt. (www.diagonales.ch) #sdj22 \nFrancesco Geminiani\, sax; Fabien Iannone\, b; Arthur Hnatek\, dr\, comp \nwww.arthurhnatek.com
URL:https://jazzinolten.ch/event/arthur-hnatek-trio/
LOCATION:Kino Lichtspiele\, Klosterplatz 20\, Olten\, 4600
ATTACH;FMTTYPE=image/png:https://jazzinolten.ch/wp-content/uploads/2021/12/Arthur-Hnatek-Trio.png
END:VEVENT
BEGIN:VEVENT
DTSTART;TZID=Europe/Paris:20220121T210000
DTEND;TZID=Europe/Paris:20220121T230000
DTSTAMP:20260420T222248
CREATED:20211220T142857Z
LAST-MODIFIED:20240317T154855Z
UID:628-1642798800-1642806000@jazzinolten.ch
SUMMARY:ChaChaMania
DESCRIPTION:Cha-Cha heisst die Insel. Und die Reise geht los. Die vier Maniacs bedienen sich am liebsten bei Grooves\, welche bezüglich ihrer Herkunft in Äquatornähe anzusiedeln sind. ChaChaMania versteht sich selbst als Schmelztiegel\, in welchem lustvoll verschiedenste Einflüsse etlicher Kulturen und musikalischer Szenen verwoben werden. Die wendigen und quirligen Musiker spielen frisch wie die Kokosnuss – unverkrampft und spielerisch zwischen Tradition und Neuem. \nBand: Michael Bucher\, Gitarre/ Harmonika; Patrick Sommer\, Bass; Peter Wagner\, Hammond Orgel; Flo Reichle\, Drums \nWeitere Informationen: www.chachamania.ch \n 
URL:https://jazzinolten.ch/event/chachamania/
LOCATION:Kino Lichtspiele\, Klosterplatz 20\, Olten\, 4600
ATTACH;FMTTYPE=image/jpeg:https://jazzinolten.ch/wp-content/uploads/2021/12/ChaChaMania_2_By_Dennis_Yulov-scaled.jpg
END:VEVENT
BEGIN:VEVENT
DTSTART;TZID=Europe/Paris:20211119T210000
DTEND;TZID=Europe/Paris:20211119T230000
DTSTAMP:20260420T222248
CREATED:20240317T155707Z
LAST-MODIFIED:20240317T155707Z
UID:531-1637355600-1637362800@jazzinolten.ch
SUMMARY:Hoerni – Bucher Quartett
DESCRIPTION:Konzert wegen Pandemie auf Herbst verschoben. \nDa haben sich zwei gefunden! Der Zürcher Gitarrist und Multiinstrumentalist Michael Bucher und die Oltner Tenorsaxophonistin Fabienne Hoerni. Elegant\, stilsicher\, erfinderisch und vieles mehr kann man den Ausnahmemusiker Bucher bezeichnen. Hoernis musikalischer Stil zeichnet sich durch klare Melodieführungen\, groovige Rhythmik und einen ausgesprochen warmen Klang ihres Instruments aus. Bucher und Hoerni bringen einiges an musikalischer Erfahrung in verschiedenen Genres mit und tun sich jetzt mit neuen Kompositionen und ausgewählten Covers zum Hoerni – Bucher Quartett mit zwei weiteren Top-Musikern zusammen. Es sind zwei Bekannte der Musikszene\, der herausragende Pianist Thomas Lüscher und der versierte Perkussionist Roland Wäger.. \nBand: Fabienne Hoerni\, Olten\, ts; Michael Bucher\, g; Thomas Lüscher\, keys; Roland Wäger\, perc \nwww.fabiennehoerni.ch; www.michaelbucher.ch
URL:https://jazzinolten.ch/event/hoerni-bucher-quartett/
LOCATION:Kino Lichtspiele\, Klosterplatz 20\, Olten\, 4600
ATTACH;FMTTYPE=image/jpeg:https://jazzinolten.ch/wp-content/uploads/2020/12/Hoerni-Band.jpg
END:VEVENT
BEGIN:VEVENT
DTSTART;TZID=Europe/Paris:20211023T210000
DTEND;TZID=Europe/Paris:20211023T230000
DTSTAMP:20260420T222248
CREATED:20240317T155707Z
LAST-MODIFIED:20240317T155707Z
UID:588-1635022800-1635030000@jazzinolten.ch
SUMMARY:Low Planet Electric Trio
DESCRIPTION:Low Planet Electric Trio sind der schwedische Bassist Jörgen Welander\, der deutsche Posaunist Uli Binetsch und der Schweizer Gitarrist Urs Röllin. Hier haben sich drei virtuose Individualisten gefunden\, die sich in ihrer Improvisationslust aus einem riesigen Fundus bedienen. So sind Eigenkompositionen und Jazzstandards genauso zu hören\, wie Pop\,- Blues\,- oder Latin-Songs. Und das immer fantasievoll und überraschend zugleich. \nBand: Jörgen Welander\, E-Bass; Uli Binetsch\, Posaune; Urs Röllin\, E-Gitarre \nwww.low-planet.de
URL:https://jazzinolten.ch/event/low-planet-ein-tiefes-blech-trio-der-besonderen-art/
LOCATION:Kino Lichtspiele\, Klosterplatz 20\, Olten\, 4600
ATTACH;FMTTYPE=image/jpeg:https://jazzinolten.ch/wp-content/uploads/2021/07/Low-Planet-2021-3-e-bass-2-low-res.jpg
END:VEVENT
BEGIN:VEVENT
DTSTART;TZID=Europe/Paris:20211009T210000
DTEND;TZID=Europe/Paris:20211009T230000
DTSTAMP:20260420T222248
CREATED:20240317T155707Z
LAST-MODIFIED:20240317T155707Z
UID:585-1633813200-1633820400@jazzinolten.ch
SUMMARY:Woodville 3
DESCRIPTION:Woodville 3 spielen Jazz. Sie spielen Jazz mit Inspiration\, Freude und Leidenschaft. Alle drei Musiker haben grosse Liebe und Respekt für seine Traditionen und Werte. Dabei gehen sie aber gerne eigene Wege: Sie spielen «Straight no chaser» im Kanon\, kurz bevor sie von einem «Cherokee» über die Prärie gejagt werden; und dann fordert Dave Brubeck sie dreimal zu «Take Five» auf\, bis John Dowland mit «Come Again» zur Abkühlung wiederauftaucht. Kaum haben sie gelernt\, sich in der Klangwelt des Barocks zu entspannen\, entführen sie «Heidi» aus den Händen von Mani Matter nach Südamerika\, um dann mit einem Eskimo nach New York zum Schlittschuhlaufen zu fahren. \nUnd das\, bevor sie ihre eigenen Songs spielen\, die das\, was sie von den Meistern gelernt haben\, mit einem Haufen eigener Ideen kombinieren – geschrieben\, um dich umzuhauen! \n  \nBand: Will Wood\, piano; Timmy J. Leiser\, drums; Hannes Fankhauser\, bass  \n  \nWeitere Informationen: www.woodville3.com
URL:https://jazzinolten.ch/event/woodville-3/
LOCATION:Kino Lichtspiele\, Klosterplatz 20\, Olten\, 4600
ATTACH;FMTTYPE=image/jpeg:https://jazzinolten.ch/wp-content/uploads/2021/07/cover-cd-woodville3-a-live-scaled.jpg
END:VEVENT
BEGIN:VEVENT
DTSTART;TZID=Europe/Paris:20201024T210000
DTEND;TZID=Europe/Paris:20201024T233000
DTSTAMP:20260420T222248
CREATED:20240317T155707Z
LAST-MODIFIED:20240317T155707Z
UID:478-1603573200-1603582200@jazzinolten.ch
SUMMARY:Baschnagel Group – 50 Years Celebration Tour
DESCRIPTION:Pius Baschnagel\, Schweizer Schlagzeugkoryphäe und Bandleader der „Baschnagel Group“ feiert den 50. Geburtstag und seine 30-jährige Musikkarriere mit einer grossen „50 Years Celebration Tour“ quer durch die Schweiz. Er schafft es seit 30 Jahren das Publikum mit seinem energetischen und auch sensiblen Schlagzeugspiel zu begeistern und zu fesseln. Nun freut er sich\, mit seiner Band und neuer Musik im Köcher\, die „50 Years Celebration Tour“ zu spielen und mit dem Publikum zu feiern\, bevor dann das neue Album im Anschluss im Studio aufgenommen wird. \nTickets: tickets@jazzinolten.ch \nMehr zur Band: www.piusbaschnagel.com
URL:https://jazzinolten.ch/event/baschnagel-group-50-years-celebration-tour/
LOCATION:Ort Ratskeller (Chöbu)\, Klosterplatz 5\, Olten\, 4600
ATTACH;FMTTYPE=image/jpeg:https://jazzinolten.ch/wp-content/uploads/2020/08/jazzinolten1.jpg
END:VEVENT
BEGIN:VEVENT
DTSTART;TZID=Europe/Paris:20201003T210000
DTEND;TZID=Europe/Paris:20201003T223000
DTSTAMP:20260420T222248
CREATED:20240317T155707Z
LAST-MODIFIED:20240317T155707Z
UID:483-1601758800-1601764200@jazzinolten.ch
SUMMARY:Escape Argot
DESCRIPTION:Christoph Steiner’s Escape Argot übt weiter den Ausbruch aus Gewohnheiten und werkelt an einer eigenwilligen und beweglichen Klangsprache. Das Trio interagiert äusserst aufmerksam und feinsinnig und jeder Musiker bringt seine musikalische Persönlichkeit in diesen dynami-schen und pulsierenden Bandklang ein. Die Musik von Escape Argot klingt nach Filmsoundtrack\, aber nicht flächig und weit\, sondern treibend und dicht\, bevölkert von intensiven kleinen Szenen\, großstädtisch\, voller unterschiedlicher Viertel und Stimmungen. Aktueller Jazz\, der auch ein jüngeres\, rock-affines Publikum begeistern kann. www.escape-argot.ch
URL:https://jazzinolten.ch/event/escape-argot/
LOCATION:Taverne zum Kreuz\, Hauptgasse 18\, Olten\, 6400\, Switzerland
ATTACH;FMTTYPE=image/jpeg:https://jazzinolten.ch/wp-content/uploads/2020/08/jazzinolten2.jpg
END:VEVENT
END:VCALENDAR